BEGIN:VCALENDAR
VERSION:2.0
PRODID:-//Reading Cycle Campaign - ECPv6.11.2//NONSGML v1.0//EN
CALSCALE:GREGORIAN
METHOD:PUBLISH
X-WR-CALNAME:Reading Cycle Campaign
X-ORIGINAL-URL:https://readingcyclecampaign.org.uk
X-WR-CALDESC:Events for Reading Cycle Campaign
REFRESH-INTERVAL;VALUE=DURATION:PT1H
X-Robots-Tag:noindex
X-PUBLISHED-TTL:PT1H
BEGIN:VTIMEZONE
TZID:Europe/London
BEGIN:DAYLIGHT
TZOFFSETFROM:+0000
TZOFFSETTO:+0100
TZNAME:BST
DTSTART:20240331T010000
END:DAYLIGHT
BEGIN:STANDARD
TZOFFSETFROM:+0100
TZOFFSETTO:+0000
TZNAME:GMT
DTSTART:20241027T010000
END:STANDARD
END:VTIMEZONE
BEGIN:VTIMEZONE
TZID:UTC
BEGIN:STANDARD
TZOFFSETFROM:+0000
TZOFFSETTO:+0000
TZNAME:UTC
DTSTART:20240101T000000
END:STANDARD
END:VTIMEZONE
BEGIN:VEVENT
DTSTART;TZID=Europe/London:20241107T110000
DTEND;TZID=Europe/London:20241107T140000
DTSTAMP:20260422T104253
CREATED:20240506T105526Z
LAST-MODIFIED:20240814T192458Z
UID:11493-1730977200-1730988000@readingcyclecampaign.org.uk
SUMMARY:Dr Bike pop up sessions
DESCRIPTION:Free monthly maintenance bike checks with Dr Bike on the first Thursday of every month\, 11am to 2pm in front of Sainsbury’s\, Broad Street\, opposite the Oracle entrance. \n\n\n\nBring your bike along to the town centre and the team will check and tune-up your bike\, undertake free minor repairs and diagnose more complex repairs. They are also happy to provide general advice on cycling and cycle route planning across Reading.
URL:https://readingcyclecampaign.org.uk/event/dr-bike-pop-up-7th-nov-2024/
CATEGORIES:Dr Bike
ATTACH;FMTTYPE=image/webp:https://readingcyclecampaign.org.uk/wp-content/uploads/2024/05/dr_bike_jamie-scaled-1.webp
END:VEVENT
BEGIN:VEVENT
DTSTART;TZID=UTC:20241113T173000
DTEND;TZID=UTC:20241113T193000
DTSTAMP:20260422T104253
CREATED:20241028T171032Z
LAST-MODIFIED:20241028T174531Z
UID:13564-1731519000-1731526200@readingcyclecampaign.org.uk
SUMMARY:Free Dr Bike\, Bike Reg Kits & Lights for Cycling Commuters
DESCRIPTION:Reading Cycle Campaign and Kidical Mass will be on the Reading town-side of the station on Wednesday 13th November offering: \n\n\n\n* FREE Dr Bike – bike checks\, simple repairs and advice* FREE Bike Register Kits – register & mark your bike to deter thieves* FREE Bike lights – be seen\, be safe \n\n\n\nThank you to Reading Borough Council for supporting this event. \n\n\n\nCycle safely this Winter.
URL:https://readingcyclecampaign.org.uk/event/cycle-safely-this-winter/
LOCATION:Reading Station\, Station Approach\, Reading\, RG1 1LY
ATTACH;FMTTYPE=image/jpeg:https://readingcyclecampaign.org.uk/wp-content/uploads/2024/10/Cycling-in-the-dark.jpg
END:VEVENT
BEGIN:VEVENT
DTSTART;TZID=Europe/London:20241113T193000
DTEND;TZID=Europe/London:20241113T210000
DTSTAMP:20260422T104253
CREATED:20240302T142115Z
LAST-MODIFIED:20241028T171523Z
UID:10602-1731526200-1731531600@readingcyclecampaign.org.uk
SUMMARY:Reading Cycle Campaign Committee Meeting
DESCRIPTION:
URL:https://readingcyclecampaign.org.uk/event/reading-cycle-campaign-committee-meeting-20th-nov-2024/
CATEGORIES:Committee
ATTACH;FMTTYPE=image/jpeg:https://readingcyclecampaign.org.uk/wp-content/uploads/2024/03/New-RCC-logo.jpg
END:VEVENT
BEGIN:VEVENT
DTSTART;TZID=UTC:20241120T190000
DTEND;TZID=UTC:20241120T210000
DTSTAMP:20260422T104253
CREATED:20241007T163245Z
LAST-MODIFIED:20241119T193749Z
UID:13287-1732129200-1732136400@readingcyclecampaign.org.uk
SUMMARY:Glow Ride 2024 - let's light up the streets of Reading! Meet at 7pm Reading Lido. Finish at The Lyndhurst.
DESCRIPTION:Light up your bike and join Kidical Mass Reading and Reading Cycle Campaign for their annual Glow Ride at 7pm on Wednesday 20 November. \n\n\n\nThis is a cheery 5km ride around Reading. The ride leader will keep the ride to a social pace\, and afterwards anyone who would like to is welcome to join us at the The Lyndhurst pub for more conversation and camaraderie. \n\n\n\nThe ride exists to highlight the need for well lit bike infrastructure to help remove barriers to cycling all year round. Many bike routes are remote and unlit\, and in Winter cyclists are often faced with the unsavoury choice of cycling in the dark or tangling with traffic on well lit (but busy) roads. \n\n\n\nWomen in particular are 84% less likely to cycle in the dark compared to men\, at least in part because they perceive darkness as less socially safe. People who are a bit older are also less likely to cycle in the dark than their younger peers as the risk of injury due to a fall increases too. \n\n\n\nWe need routes that are inclusive and support people to cycle safely all year round. \n\n\n\nWhen cycling on roads with cars and other vehicles being seen and visible is important for safety and Kidical Mass will be able to give out bike lights to those who might be struggling to afford lights this year\, thanks to a grant by Reading Borough Council. \n\n\n\nThis year’s ride starts outside Thames Lido 19:00 and will finish at The Lyndhurst. Cyclists of all ages and abilities are welcome. Come and help us light up the night!
URL:https://readingcyclecampaign.org.uk/event/glow-ride-2024/
CATEGORIES:Kidical Mass
ATTACH;FMTTYPE=image/jpeg:https://readingcyclecampaign.org.uk/wp-content/uploads/2024/10/Glow-Ride-Image.jpg
END:VEVENT
BEGIN:VEVENT
DTSTART;TZID=UTC:20241127T183000
DTEND;TZID=UTC:20241127T193000
DTSTAMP:20260422T104253
CREATED:20241120T152115Z
LAST-MODIFIED:20241120T152222Z
UID:13774-1732732200-1732735800@readingcyclecampaign.org.uk
SUMMARY:RBC Traffic Management Sub-Committee
DESCRIPTION:Council Chamber\, Civic Offices\, Reading. \n\n\n\nReading Cycle Campaign will attend this meeting. \n\n\n\nTo see the publicly available information\, follow the link: Agenda details
URL:https://readingcyclecampaign.org.uk/event/rbc-traffic-management-sub-committee/
CATEGORIES:Committee
ATTACH;FMTTYPE=image/jpeg:https://readingcyclecampaign.org.uk/wp-content/uploads/2024/06/RBC-Logo.jpg
END:VEVENT
END:VCALENDAR